BEGIN:VCALENDAR
VERSION:2.0
PRODID:-//wp-events-plugin.com//7.2.3.1//EN
TZID:Europe/Berlin
X-WR-TIMEZONE:Europe/Berlin
BEGIN:VEVENT
UID:112@christophorus-kantorei.de
DTSTART;TZID=Europe/Berlin;VALUE=DATE:20190911
DTEND;TZID=Europe/Berlin;VALUE=DATE:20190916
DTSTAMP:20240129T104823Z
URL:https://www.christophorus-kantorei.de/termin/teilnahme-beim-eurotreff-
 2019-in-wolfenbuettel/
SUMMARY:Teilnahme beim Eurotreff 2019 in Wolfenbüttel
DESCRIPTION:
CATEGORIES:Christophorus-Kinderchor
END:VEVENT
BEGIN:VTIMEZONE
TZID:Europe/Berlin
X-LIC-LOCATION:Europe/Berlin
BEGIN:DAYLIGHT
DTSTART:20190331T030000
TZOFFSETFROM:+0100
TZOFFSETTO:+0200
TZNAME:CEST
END:DAYLIGHT
END:VTIMEZONE
END:VCALENDAR